Package: CRImage Version: 1.55.0 Command: /Library/Frameworks/R.framework/Resources/bin/R CMD INSTALL CRImage StartedAt: 2025-02-12 15:35:16 -0500 (Wed, 12 Feb 2025) EndedAt: 2025-02-12 15:35:32 -0500 (Wed, 12 Feb 2025) EllapsedTime: 16.0 seconds RetCode: 0 Status: OK