Package: CSAR Version: 1.59.0 Command: /Library/Frameworks/R.framework/Resources/bin/R CMD INSTALL CSAR StartedAt: 2025-02-04 15:04:58 -0500 (Tue, 04 Feb 2025) EndedAt: 2025-02-04 15:05:02 -0500 (Tue, 04 Feb 2025) EllapsedTime: 4.0 seconds RetCode: 0 Status: OK