Package: CSAR Version: 1.59.0 Command: /home/biocbuild/R/R/bin/R CMD INSTALL CSAR StartedAt: 2025-01-29 19:40:37 -0000 (Wed, 29 Jan 2025) EndedAt: 2025-01-29 19:40:49 -0000 (Wed, 29 Jan 2025) EllapsedTime: 12.4 seconds RetCode: 0 Status: OK