Package: CSAR Version: 1.59.0 Command: rm -rf CSAR.buildbin-libdir && mkdir CSAR.buildbin-libdir && /Users/biocbuild/BBS/utils/build-universal.sh CSAR_1.59.0.tar.gz /Library/Frameworks/R.framework/Resources/bin/R CSAR.buildbin-libdir StartedAt: 2025-02-05 00:35:11 -0500 (Wed, 05 Feb 2025) EndedAt: 2025-02-05 00:35:28 -0500 (Wed, 05 Feb 2025) EllapsedTime: 16.1 seconds RetCode: 0 Status: OK PackageFile: CSAR_1.59.0.tgz PackageFileSize: 304.3 KiB