Package: CSAR Version: 1.59.0 Command: /Library/Frameworks/R.framework/Resources/bin/R CMD INSTALL CSAR StartedAt: 2025-02-04 15:09:56 -0500 (Tue, 04 Feb 2025) EndedAt: 2025-02-04 15:10:11 -0500 (Tue, 04 Feb 2025) EllapsedTime: 15.0 seconds RetCode: 0 Status: OK