Package: CSAR Version: 1.59.0 Command: /home/biocbuild/bbs-3.21-bioc/R/bin/R CMD check --install=check:CSAR.install-out.txt --library=/home/biocbuild/bbs-3.21-bioc/R/site-library --timings CSAR_1.59.0.tar.gz StartedAt: 2025-02-09 21:18:40 -0500 (Sun, 09 Feb 2025) EndedAt: 2025-02-09 21:21:31 -0500 (Sun, 09 Feb 2025) EllapsedTime: 170.2 seconds RetCode: 0 Status: OK CheckDir: CSAR.Rcheck Warnings: 0