Package: CSAR Version: 1.59.0 Command: E:\biocbuild\bbs-3.21-bioc\R\bin\R.exe CMD check --no-multiarch --install=check:CSAR.install-out.txt --library=E:\biocbuild\bbs-3.21-bioc\R\library --no-vignettes --timings CSAR_1.59.0.tar.gz StartedAt: 2025-02-05 00:30:54 -0500 (Wed, 05 Feb 2025) EndedAt: 2025-02-05 00:33:40 -0500 (Wed, 05 Feb 2025) EllapsedTime: 166.8 seconds RetCode: 0 Status: OK CheckDir: CSAR.Rcheck Warnings: 0