Package: CSSQ Version: 1.19.0 Command: rm -rf CSSQ.buildbin-libdir && mkdir CSSQ.buildbin-libdir && /Users/biocbuild/BBS/utils/build-universal.sh CSSQ_1.19.0.tar.gz /Library/Frameworks/R.framework/Resources/bin/R CSSQ.buildbin-libdir StartedAt: 2025-02-09 22:10:59 -0500 (Sun, 09 Feb 2025) EndedAt: 2025-02-09 22:11:14 -0500 (Sun, 09 Feb 2025) EllapsedTime: 15.3 seconds RetCode: 0 Status: OK PackageFile: CSSQ_1.19.0.tgz PackageFileSize: 926.9 KiB