Package: CSSQ Version: 1.19.0 Command: /Library/Frameworks/R.framework/Resources/bin/R CMD build --keep-empty-dirs --no-resave-data CSSQ StartedAt: 2025-02-04 16:22:34 -0500 (Tue, 04 Feb 2025) EndedAt: 2025-02-04 16:23:37 -0500 (Tue, 04 Feb 2025) EllapsedTime: 62.8 seconds RetCode: 0 Status: OK PackageFile: CSSQ_1.19.0.tar.gz PackageFileSize: 865.9 KiB