Package: CSSQ Version: 1.19.0 Command: /home/biocbuild/bbs-3.21-bioc/R/bin/R CMD check --install=check:CSSQ.install-out.txt --library=/home/biocbuild/bbs-3.21-bioc/R/site-library --timings CSSQ_1.19.0.tar.gz StartedAt: 2025-02-04 21:17:59 -0500 (Tue, 04 Feb 2025) EndedAt: 2025-02-04 21:22:28 -0500 (Tue, 04 Feb 2025) EllapsedTime: 269.0 seconds RetCode: 0 Status: OK CheckDir: CSSQ.Rcheck Warnings: 0