Package: CSSQ Version: 1.19.0 Command: chmod a+r CSSQ -R && E:\biocbuild\bbs-3.21-bioc\R\bin\R.exe CMD build --keep-empty-dirs --no-resave-data CSSQ StartedAt: 2025-02-04 18:05:46 -0500 (Tue, 04 Feb 2025) EndedAt: 2025-02-04 18:09:46 -0500 (Tue, 04 Feb 2025) EllapsedTime: 239.8 seconds RetCode: 0 Status: OK PackageFile: CSSQ_1.19.0.tar.gz PackageFileSize: 865.7 KiB