Package: CTDquerier Version: 2.15.0 Command: /home/biocbuild/R/R/bin/R CMD check --install=check:CTDquerier.install-out.txt --library=/home/biocbuild/R/R/site-library --no-vignettes --timings CTDquerier_2.15.0.tar.gz StartedAt: 2025-01-28 09:36:44 -0000 (Tue, 28 Jan 2025) EndedAt: 2025-01-28 09:47:33 -0000 (Tue, 28 Jan 2025) EllapsedTime: 649.5 seconds RetCode: 0 Status: WARNINGS CheckDir: CTDquerier.Rcheck Warnings: 1