Package: CTDquerier Version: 2.15.0 Command: /home/biocbuild/R/R/bin/R CMD INSTALL CTDquerier StartedAt: 2025-01-29 19:44:28 -0000 (Wed, 29 Jan 2025) EndedAt: 2025-01-29 19:44:39 -0000 (Wed, 29 Jan 2025) EllapsedTime: 11.1 seconds RetCode: 0 Status: OK