Package: CTDquerier Version: 2.15.0 Command: /Library/Frameworks/R.framework/Resources/bin/R CMD check --install=check:CTDquerier.install-out.txt --library=/Library/Frameworks/R.framework/Resources/library --no-vignettes --timings CTDquerier_2.15.0.tar.gz StartedAt: 2025-02-12 19:51:11 -0500 (Wed, 12 Feb 2025) EndedAt: 2025-02-12 19:53:10 -0500 (Wed, 12 Feb 2025) EllapsedTime: 119.3 seconds RetCode: 0 Status: WARNINGS CheckDir: CTDquerier.Rcheck Warnings: 1