Package: CTDquerier Version: 2.15.0 Command: /home/biocbuild/bbs-3.21-bioc/R/bin/R CMD INSTALL CTDquerier StartedAt: 2025-02-12 15:15:09 -0500 (Wed, 12 Feb 2025) EndedAt: 2025-02-12 15:15:17 -0500 (Wed, 12 Feb 2025) EllapsedTime: 7.9 seconds RetCode: 0 Status: OK