Package: CTDquerier Version: 2.15.0 Command: chmod a+r CTDquerier -R && E:\biocbuild\bbs-3.21-bioc\R\bin\R.exe CMD build --keep-empty-dirs --no-resave-data CTDquerier StartedAt: 2025-02-12 18:10:15 -0500 (Wed, 12 Feb 2025) EndedAt: 2025-02-12 18:10:20 -0500 (Wed, 12 Feb 2025) EllapsedTime: 5.4 seconds RetCode: 0 Status: OK PackageFile: CTDquerier_2.15.0.tar.gz PackageFileSize: 2.803 MiB