Package: CTDquerier Version: 2.15.0 Command: E:\biocbuild\bbs-3.21-bioc\R\bin\R.exe CMD check --no-multiarch --install=check:CTDquerier.install-out.txt --library=E:\biocbuild\bbs-3.21-bioc\R\library --no-vignettes --timings CTDquerier_2.15.0.tar.gz StartedAt: 2025-02-10 00:04:26 -0500 (Mon, 10 Feb 2025) EndedAt: 2025-02-10 00:07:25 -0500 (Mon, 10 Feb 2025) EllapsedTime: 179.2 seconds RetCode: 0 Status: WARNINGS CheckDir: CTDquerier.Rcheck Warnings: 1