Package: CTdata Version: 1.7.0 Command: /home/biocbuild/bbs-3.21-bioc/R/bin/R CMD check --install=check:CTdata.install-out.txt --library=/home/biocbuild/bbs-3.21-bioc/R/site-library --timings CTdata_1.7.0.tar.gz StartedAt: 2025-02-09 21:20:04 -0500 (Sun, 09 Feb 2025) EndedAt: 2025-02-09 21:28:12 -0500 (Sun, 09 Feb 2025) EllapsedTime: 487.6 seconds RetCode: 0 Status: OK CheckDir: CTdata.Rcheck Warnings: 0