Package: CTdata Version: 1.7.0 Command: chmod a+r CTdata -R && E:\biocbuild\bbs-3.21-bioc\R\bin\R.exe CMD build --keep-empty-dirs --no-resave-data CTdata StartedAt: 2025-02-12 18:10:14 -0500 (Wed, 12 Feb 2025) EndedAt: 2025-02-12 18:21:09 -0500 (Wed, 12 Feb 2025) EllapsedTime: 654.8 seconds RetCode: 0 Status: OK PackageFile: CTdata_1.7.0.tar.gz PackageFileSize: 6.971 MiB