Package: CaDrA Version: 1.5.0 Command: /Library/Frameworks/R.framework/Resources/bin/R CMD check --install=check:CaDrA.install-out.txt --library=/Library/Frameworks/R.framework/Resources/library --no-vignettes --timings CaDrA_1.5.0.tar.gz StartedAt: 2025-02-04 18:23:08 -0500 (Tue, 04 Feb 2025) EndedAt: 2025-02-04 18:25:45 -0500 (Tue, 04 Feb 2025) EllapsedTime: 156.8 seconds RetCode: 0 Status: OK CheckDir: CaDrA.Rcheck Warnings: 0