Package: CaDrA Version: 1.5.0 Command: /Library/Frameworks/R.framework/Resources/bin/R CMD build --keep-empty-dirs --no-resave-data CaDrA StartedAt: 2025-02-04 16:05:45 -0500 (Tue, 04 Feb 2025) EndedAt: 2025-02-04 16:08:33 -0500 (Tue, 04 Feb 2025) EllapsedTime: 167.7 seconds RetCode: 0 Status: OK PackageFile: CaDrA_1.5.0.tar.gz PackageFileSize: 2.49 MiB