Package: CaDrA Version: 1.5.0 Command: /Library/Frameworks/R.framework/Resources/bin/R CMD INSTALL CaDrA StartedAt: 2025-02-09 15:22:12 -0500 (Sun, 09 Feb 2025) EndedAt: 2025-02-09 15:22:48 -0500 (Sun, 09 Feb 2025) EllapsedTime: 36.5 seconds RetCode: 0 Status: OK