Package: CaDrA Version: 1.5.0 Command: /home/biocbuild/bbs-3.21-bioc/R/bin/R CMD build --keep-empty-dirs --no-resave-data CaDrA StartedAt: 2025-02-09 16:29:55 -0500 (Sun, 09 Feb 2025) EndedAt: 2025-02-09 16:32:13 -0500 (Sun, 09 Feb 2025) EllapsedTime: 138.2 seconds RetCode: 0 Status: OK PackageFile: CaDrA_1.5.0.tar.gz PackageFileSize: 2.383 MiB