Package: CaDrA Version: 1.5.0 Command: /home/biocbuild/bbs-3.21-bioc/R/bin/R CMD INSTALL CaDrA StartedAt: 2025-02-04 15:16:13 -0500 (Tue, 04 Feb 2025) EndedAt: 2025-02-04 15:16:38 -0500 (Tue, 04 Feb 2025) EllapsedTime: 24.3 seconds RetCode: 0 Status: OK