Package: CaDrA Version: 1.5.0 Command: rm -rf CaDrA.buildbin-libdir && mkdir CaDrA.buildbin-libdir && E:\biocbuild\bbs-3.21-bioc\R\bin\R.exe CMD INSTALL --build --library=CaDrA.buildbin-libdir CaDrA_1.5.0.tar.gz StartedAt: 2025-02-05 07:34:26 -0500 (Wed, 05 Feb 2025) EndedAt: 2025-02-05 07:35:03 -0500 (Wed, 05 Feb 2025) EllapsedTime: 36.6 seconds RetCode: 0 Status: OK PackageFile: CaDrA_1.5.0.zip PackageFileSize: 1.537 MiB