Package: CaDrA Version: 1.5.0 Command: chmod a+r CaDrA -R && E:\biocbuild\bbs-3.21-bioc\R\bin\R.exe CMD build --keep-empty-dirs --no-resave-data CaDrA StartedAt: 2025-02-09 17:37:20 -0500 (Sun, 09 Feb 2025) EndedAt: 2025-02-09 17:40:24 -0500 (Sun, 09 Feb 2025) EllapsedTime: 184.2 seconds RetCode: 0 Status: OK PackageFile: CaDrA_1.5.0.tar.gz PackageFileSize: 1.542 MiB