Package: CaDrA Version: 1.5.0 Command: E:\biocbuild\bbs-3.21-bioc\R\bin\R.exe CMD check --no-multiarch --install=check:CaDrA.install-out.txt --library=E:\biocbuild\bbs-3.21-bioc\R\library --no-vignettes --timings CaDrA_1.5.0.tar.gz StartedAt: 2025-02-04 23:44:37 -0500 (Tue, 04 Feb 2025) EndedAt: 2025-02-04 23:53:32 -0500 (Tue, 04 Feb 2025) EllapsedTime: 534.2 seconds RetCode: 0 Status: OK CheckDir: CaDrA.Rcheck Warnings: 0