Package: CaDrA Version: 1.5.0 Command: E:\biocbuild\bbs-3.21-bioc\R\bin\R.exe CMD INSTALL CaDrA StartedAt: 2025-02-04 15:45:26 -0500 (Tue, 04 Feb 2025) EndedAt: 2025-02-04 15:46:07 -0500 (Tue, 04 Feb 2025) EllapsedTime: 40.8 seconds RetCode: 0 Status: OK