Package: Cardinal Version: 3.9.0 Command: /Library/Frameworks/R.framework/Resources/bin/R CMD build --keep-empty-dirs --no-resave-data Cardinal StartedAt: 2025-02-09 15:47:32 -0500 (Sun, 09 Feb 2025) EndedAt: 2025-02-09 15:49:33 -0500 (Sun, 09 Feb 2025) EllapsedTime: 121.3 seconds RetCode: 0 Status: OK PackageFile: Cardinal_3.9.0.tar.gz PackageFileSize: 5.156 MiB