Package: Cardinal Version: 3.9.0 Command: /home/biocbuild/R/R/bin/R CMD build --keep-empty-dirs --no-resave-data Cardinal StartedAt: 2025-01-28 21:34:17 -0000 (Tue, 28 Jan 2025) EndedAt: 2025-01-28 21:44:49 -0000 (Tue, 28 Jan 2025) EllapsedTime: 632.2 seconds RetCode: 0 Status: OK PackageFile: Cardinal_3.9.0.tar.gz PackageFileSize: 2.597 MiB