Package: Cardinal Version: 3.9.0 Command: /home/biocbuild/R/R/bin/R CMD INSTALL Cardinal StartedAt: 2025-01-29 20:05:17 -0000 (Wed, 29 Jan 2025) EndedAt: 2025-01-29 20:05:52 -0000 (Wed, 29 Jan 2025) EllapsedTime: 34.6 seconds RetCode: 0 Status: OK