Package: Cardinal Version: 3.9.0 Command: /Library/Frameworks/R.framework/Resources/bin/R CMD check --install=check:Cardinal.install-out.txt --library=/Library/Frameworks/R.framework/Resources/library --no-vignettes --timings Cardinal_3.9.0.tar.gz StartedAt: 2025-02-09 19:34:37 -0500 (Sun, 09 Feb 2025) EndedAt: 2025-02-09 19:42:06 -0500 (Sun, 09 Feb 2025) EllapsedTime: 449.3 seconds RetCode: 0 Status: OK CheckDir: Cardinal.Rcheck Warnings: 0