Package: Cardinal Version: 3.9.0 Command: /home/biocbuild/bbs-3.21-bioc/R/bin/R CMD check --install=check:Cardinal.install-out.txt --library=/home/biocbuild/bbs-3.21-bioc/R/site-library --timings Cardinal_3.9.0.tar.gz StartedAt: 2025-02-09 20:40:02 -0500 (Sun, 09 Feb 2025) EndedAt: 2025-02-09 20:52:38 -0500 (Sun, 09 Feb 2025) EllapsedTime: 756.0 seconds RetCode: 0 Status: OK CheckDir: Cardinal.Rcheck Warnings: 0