Package: Cardinal Version: 3.9.0 Command: /home/biocbuild/bbs-3.21-bioc/R/bin/R CMD INSTALL Cardinal StartedAt: 2025-02-09 15:13:21 -0500 (Sun, 09 Feb 2025) EndedAt: 2025-02-09 15:13:45 -0500 (Sun, 09 Feb 2025) EllapsedTime: 24.4 seconds RetCode: 0 Status: OK