Package: CardinalIO Version: 1.5.0 Command: /Library/Frameworks/R.framework/Resources/bin/R CMD build --keep-empty-dirs --no-resave-data CardinalIO StartedAt: 2025-02-09 15:47:34 -0500 (Sun, 09 Feb 2025) EndedAt: 2025-02-09 15:47:44 -0500 (Sun, 09 Feb 2025) EllapsedTime: 10.1 seconds RetCode: 0 Status: OK PackageFile: CardinalIO_1.5.0.tar.gz PackageFileSize: 966.5 KiB