Package: CardinalIO Version: 1.5.0 Command: /Library/Frameworks/R.framework/Resources/bin/R CMD INSTALL CardinalIO StartedAt: 2025-02-04 15:15:28 -0500 (Tue, 04 Feb 2025) EndedAt: 2025-02-04 15:15:49 -0500 (Tue, 04 Feb 2025) EllapsedTime: 21.8 seconds RetCode: 0 Status: OK