Package: CardinalIO Version: 1.5.0 Command: /home/biocbuild/bbs-3.21-bioc/R/bin/R CMD check --install=check:CardinalIO.install-out.txt --library=/home/biocbuild/bbs-3.21-bioc/R/site-library --timings CardinalIO_1.5.0.tar.gz StartedAt: 2025-02-04 20:37:37 -0500 (Tue, 04 Feb 2025) EndedAt: 2025-02-04 20:39:07 -0500 (Tue, 04 Feb 2025) EllapsedTime: 90.1 seconds RetCode: 0 Status: OK CheckDir: CardinalIO.Rcheck Warnings: 0