Package: CardinalIO Version: 1.5.0 Command: /home/biocbuild/bbs-3.21-bioc/R/bin/R CMD INSTALL CardinalIO StartedAt: 2025-02-04 15:11:04 -0500 (Tue, 04 Feb 2025) EndedAt: 2025-02-04 15:11:21 -0500 (Tue, 04 Feb 2025) EllapsedTime: 17.1 seconds RetCode: 0 Status: OK