Package: CardinalIO Version: 1.5.0 Command: rm -rf CardinalIO.buildbin-libdir && mkdir CardinalIO.buildbin-libdir && E:\biocbuild\bbs-3.21-bioc\R\bin\R.exe CMD INSTALL --build --library=CardinalIO.buildbin-libdir CardinalIO_1.5.0.tar.gz StartedAt: 2025-02-10 07:22:37 -0500 (Mon, 10 Feb 2025) EndedAt: 2025-02-10 07:23:31 -0500 (Mon, 10 Feb 2025) EllapsedTime: 53.9 seconds RetCode: 0 Status: OK PackageFile: CardinalIO_1.5.0.zip PackageFileSize: 1.278 MiB