Package: Category Version: 2.73.0 Command: /home/biocbuild/R/R/bin/R CMD check --install=check:Category.install-out.txt --library=/home/biocbuild/R/R/site-library --no-vignettes --timings Category_2.73.0.tar.gz StartedAt: 2025-01-28 08:55:18 -0000 (Tue, 28 Jan 2025) EndedAt: 2025-01-28 08:59:43 -0000 (Tue, 28 Jan 2025) EllapsedTime: 265.2 seconds RetCode: 0 Status: OK CheckDir: Category.Rcheck Warnings: 0