Package: Category Version: 2.73.0 Command: rm -rf Category.buildbin-libdir && mkdir Category.buildbin-libdir && /Users/biocbuild/BBS/utils/build-universal.sh Category_2.73.0.tar.gz /Library/Frameworks/R.framework/Resources/bin/R Category.buildbin-libdir StartedAt: 2025-02-10 00:45:16 -0500 (Mon, 10 Feb 2025) EndedAt: 2025-02-10 00:45:52 -0500 (Mon, 10 Feb 2025) EllapsedTime: 35.8 seconds RetCode: 0 Status: OK PackageFile: Category_2.73.0.tgz PackageFileSize: 1.421 MiB