Package: Category Version: 2.73.0 Command: /Library/Frameworks/R.framework/Resources/bin/R CMD INSTALL Category StartedAt: 2025-02-09 15:32:35 -0500 (Sun, 09 Feb 2025) EndedAt: 2025-02-09 15:33:09 -0500 (Sun, 09 Feb 2025) EllapsedTime: 33.6 seconds RetCode: 0 Status: OK