Package: Category Version: 2.73.0 Command: /home/biocbuild/bbs-3.21-bioc/R/bin/R CMD build --keep-empty-dirs --no-resave-data Category StartedAt: 2025-02-09 16:31:59 -0500 (Sun, 09 Feb 2025) EndedAt: 2025-02-09 16:33:21 -0500 (Sun, 09 Feb 2025) EllapsedTime: 82.1 seconds RetCode: 0 Status: OK PackageFile: Category_2.73.0.tar.gz PackageFileSize: 873.8 KiB