Package: Category Version: 2.73.0 Command: E:\biocbuild\bbs-3.21-bioc\R\bin\R.exe CMD INSTALL Category StartedAt: 2025-02-09 15:57:14 -0500 (Sun, 09 Feb 2025) EndedAt: 2025-02-09 15:58:37 -0500 (Sun, 09 Feb 2025) EllapsedTime: 82.7 seconds RetCode: 0 Status: OK