Package: CatsCradle Version: 1.1.0 Command: rm -rf CatsCradle.buildbin-libdir && mkdir CatsCradle.buildbin-libdir && /Users/biocbuild/BBS/utils/build-universal.sh CatsCradle_1.1.0.tar.gz /Library/Frameworks/R.framework/Resources/bin/R CatsCradle.buildbin-libdir StartedAt: 2025-02-03 22:44:13 -0500 (Mon, 03 Feb 2025) EndedAt: 2025-02-03 22:44:31 -0500 (Mon, 03 Feb 2025) EllapsedTime: 17.3 seconds RetCode: 0 Status: OK PackageFile: CatsCradle_1.1.0.tgz PackageFileSize: 8.397 MiB