Package: CatsCradle Version: 1.1.0 Command: /home/biocbuild/R/R/bin/R CMD build --keep-empty-dirs --no-resave-data CatsCradle StartedAt: 2025-01-28 21:35:25 -0000 (Tue, 28 Jan 2025) EndedAt: 2025-01-28 21:44:57 -0000 (Tue, 28 Jan 2025) EllapsedTime: 572.2 seconds RetCode: 0 Status: OK PackageFile: CatsCradle_1.1.0.tar.gz PackageFileSize: 3.596 MiB