Package: CatsCradle Version: 1.1.0 Command: /home/biocbuild/R/R/bin/R CMD INSTALL CatsCradle StartedAt: 2025-01-29 20:17:36 -0000 (Wed, 29 Jan 2025) EndedAt: 2025-01-29 20:18:33 -0000 (Wed, 29 Jan 2025) EllapsedTime: 56.8 seconds RetCode: 0 Status: OK