Package: CatsCradle Version: 1.1.0 Command: /Library/Frameworks/R.framework/Resources/bin/R CMD build --keep-empty-dirs --no-resave-data CatsCradle StartedAt: 2025-02-04 16:07:47 -0500 (Tue, 04 Feb 2025) EndedAt: 2025-02-04 16:14:11 -0500 (Tue, 04 Feb 2025) EllapsedTime: 383.4 seconds RetCode: 0 Status: OK PackageFile: CatsCradle_1.1.0.tar.gz PackageFileSize: 8.388 MiB