Package: CatsCradle Version: 1.1.0 Command: /Library/Frameworks/R.framework/Resources/bin/R CMD INSTALL CatsCradle StartedAt: 2025-02-09 15:32:55 -0500 (Sun, 09 Feb 2025) EndedAt: 2025-02-09 15:33:49 -0500 (Sun, 09 Feb 2025) EllapsedTime: 54.5 seconds RetCode: 0 Status: OK