Package: CatsCradle Version: 1.1.0 Command: /home/biocbuild/bbs-3.21-bioc/R/bin/R CMD check --install=check:CatsCradle.install-out.txt --library=/home/biocbuild/bbs-3.21-bioc/R/site-library --timings CatsCradle_1.1.0.tar.gz StartedAt: 2025-02-09 20:41:33 -0500 (Sun, 09 Feb 2025) EndedAt: 2025-02-09 20:56:39 -0500 (Sun, 09 Feb 2025) EllapsedTime: 906.3 seconds RetCode: 0 Status: WARNINGS CheckDir: CatsCradle.Rcheck Warnings: 1